BEGIN:VCALENDAR
VERSION:2.0
PRODID:-//24 Hour Citizen Project - ECPv5.16.2.1//NONSGML v1.0//EN
CALSCALE:GREGORIAN
METHOD:PUBLISH
X-ORIGINAL-URL:https://24hourcitizenproject.com
X-WR-CALDESC:Events for 24 Hour Citizen Project
REFRESH-INTERVAL;VALUE=DURATION:PT1H
X-Robots-Tag:noindex
X-PUBLISHED-TTL:PT1H
BEGIN:VTIMEZONE
TZID:UTC
BEGIN:STANDARD
TZOFFSETFROM:+0000
TZOFFSETTO:+0000
TZNAME:UTC
DTSTART:20220101T000000
END:STANDARD
END:VTIMEZONE
BEGIN:VEVENT
DTSTART;TZID=UTC:20220803T180000
DTEND;TZID=UTC:20220803T193000
DTSTAMP:20260424T064333
CREATED:20220714T055602Z
LAST-MODIFIED:20220714T055602Z
UID:2322-1659549600-1659555000@24hourcitizenproject.com
SUMMARY:Idea Exchange: Miss Reba's
DESCRIPTION:
URL:https://24hourcitizenproject.com/event/idea-exchange-miss-rebas/
LOCATION:Miss Reba’s\, 315 Jefferson St.\, Lafayette\, LA\, 70501\, United States
CATEGORIES:Idea Exchange
ATTACH;FMTTYPE=image/jpeg:https://24hourcitizenproject.com/wp-content/uploads/2022/07/289080157_5202097533201429_2419680090648875471_n.jpeg
END:VEVENT
END:VCALENDAR