BEGIN:VCALENDAR
VERSION:2.0
PRODID:-//24 Hour Citizen Project - ECPv5.16.2.1//NONSGML v1.0//EN
CALSCALE:GREGORIAN
METHOD:PUBLISH
X-WR-CALNAME:24 Hour Citizen Project
X-ORIGINAL-URL:https://24hourcitizenproject.com
X-WR-CALDESC:Events for 24 Hour Citizen Project
REFRESH-INTERVAL;VALUE=DURATION:PT1H
X-Robots-Tag:noindex
X-PUBLISHED-TTL:PT1H
BEGIN:VTIMEZONE
TZID:UTC
BEGIN:STANDARD
TZOFFSETFROM:+0000
TZOFFSETTO:+0000
TZNAME:UTC
DTSTART:20220101T000000
END:STANDARD
END:VTIMEZONE
BEGIN:VEVENT
DTSTART;TZID=UTC:20220810T180000
DTEND;TZID=UTC:20220810T193000
DTSTAMP:20260424T064158
CREATED:20220809T204814Z
LAST-MODIFIED:20220809T204851Z
UID:2409-1660154400-1660159800@24hourcitizenproject.com
SUMMARY:Idea Exchange: Vermilion Parish Library
DESCRIPTION:
URL:https://24hourcitizenproject.com/event/idea-exchange-vermilion-parish-library/
LOCATION:Vermilion Parish Library\, 405 E Saint Victor St.\, Abbeville\, LA\, 70510\, United States
CATEGORIES:Idea Exchange
ATTACH;FMTTYPE=image/jpeg:https://24hourcitizenproject.com/wp-content/uploads/2022/08/297163504_5307965475947967_5345966364249793770_n.jpeg
END:VEVENT
END:VCALENDAR