BEGIN:VCALENDAR
VERSION:2.0
PRODID:-//24 Hour Citizen Project - ECPv5.16.2.1//NONSGML v1.0//EN
CALSCALE:GREGORIAN
METHOD:PUBLISH
X-WR-CALNAME:24 Hour Citizen Project
X-ORIGINAL-URL:https://24hourcitizenproject.com
X-WR-CALDESC:Events for 24 Hour Citizen Project
REFRESH-INTERVAL;VALUE=DURATION:PT1H
X-Robots-Tag:noindex
X-PUBLISHED-TTL:PT1H
BEGIN:VTIMEZONE
TZID:America/Chicago
BEGIN:DAYLIGHT
TZOFFSETFROM:-0600
TZOFFSETTO:-0500
TZNAME:CDT
DTSTART:20240310T080000
END:DAYLIGHT
BEGIN:STANDARD
TZOFFSETFROM:-0500
TZOFFSETTO:-0600
TZNAME:CST
DTSTART:20241103T070000
END:STANDARD
END:VTIMEZONE
BEGIN:VEVENT
DTSTART;TZID=America/Chicago:20241109T180000
DTEND;TZID=America/Chicago:20241109T210000
DTSTAMP:20260421T083639
CREATED:20240711T190804Z
LAST-MODIFIED:20240711T190912Z
UID:3136-1731175200-1731186000@24hourcitizenproject.com
SUMMARY:24 Hour Citizen Project Main Event
DESCRIPTION:The 24 Hour Citizen Project is back for Year 8! 🤩 \nDuring the 24HCP\, Citizen Teams get connected with the experts and financial backers who can help make their visions for our community come to life. Watch the Teams pitch their ideas to compete for funding. Come prepared to show your support – cheering\, yelling\, hugs and high-fives are required. We treat the event as a celebration of community\, and you should too! \nInterested in participating in the event instead of just attending? Learn more here: https://24hourcitizenproject.com/citizenteams/
URL:https://24hourcitizenproject.com/event/24-hour-citizen-project-main-event-2024/
LOCATION:Acadiana Center for the Arts\, 101 W Vermilion St.\, Lafayette\, LA\, 70501\, United States
CATEGORIES:2024
ATTACH;FMTTYPE=image/jpeg:https://24hourcitizenproject.com/wp-content/uploads/2024/07/448091636_896834095807894_8282504622317155348_n.jpg
END:VEVENT
END:VCALENDAR