BEGIN:VCALENDAR
VERSION:2.0
PRODID:-//24 Hour Citizen Project - ECPv5.16.2.1//NONSGML v1.0//EN
CALSCALE:GREGORIAN
METHOD:PUBLISH
X-ORIGINAL-URL:https://24hourcitizenproject.com
X-WR-CALDESC:Events for 24 Hour Citizen Project
REFRESH-INTERVAL;VALUE=DURATION:PT1H
X-Robots-Tag:noindex
X-PUBLISHED-TTL:PT1H
BEGIN:VTIMEZONE
TZID:America/Chicago
BEGIN:DAYLIGHT
TZOFFSETFROM:-0600
TZOFFSETTO:-0500
TZNAME:CDT
DTSTART:20250309T080000
END:DAYLIGHT
BEGIN:STANDARD
TZOFFSETFROM:-0500
TZOFFSETTO:-0600
TZNAME:CST
DTSTART:20251102T070000
END:STANDARD
END:VTIMEZONE
BEGIN:VEVENT
DTSTART;TZID=America/Chicago:20250724T180000
DTEND;TZID=America/Chicago:20250724T194500
DTSTAMP:20260421T101139
CREATED:20250716T191918Z
LAST-MODIFIED:20250716T191918Z
UID:3349-1753380000-1753386300@24hourcitizenproject.com
SUMMARY:Idea Exchange: Coffeeweed Cottage
DESCRIPTION:Join us for an Idea Exchange at Coffeeweed Cottage! We’re teaming up with Designing Women of Acadiana to recruit Citizen Teams and we want YOU to share your ideas with us. So\, join us and share your community project ideas. Don’t be shy! \nCoffeeweed Cottage will be open during the event\, with snacks and drinks available for purchase. \nDon’t have an idea for your community? Folks that want to hear ideas are also welcome!
URL:https://24hourcitizenproject.com/event/idea-exchange-coffeeweed-cottage-2025/
LOCATION:Coffeeweed Cottage\, 410 Poydras St\, Lafayette\, 70501
CATEGORIES:2025,Idea Exchange
ATTACH;FMTTYPE=image/png:https://24hourcitizenproject.com/wp-content/uploads/2025/07/24HCP-IDEA-EXCHANGE-JUL24-2025.png
END:VEVENT
END:VCALENDAR